BEGIN:VCALENDAR
PRODID:-//AT Content Types//AT Event//EN
VERSION:2.0
METHOD:PUBLISH
BEGIN:VEVENT
DTSTAMP:20260421T193324Z
CREATED:20150924T081331Z
UID:ATEvent-0e9d6cd3b65d410d94b8c7d4dff2a91e
LAST-MODIFIED:20150924T081453Z
SUMMARY:Twelfth Annual Conference of the European Society for Textual Scholarship (ESTS)
DTSTART:20151118T230000Z
DTEND:20151120T230000Z
DESCRIPTION:Users of Scholarly Editions\: Editorial Anticipations of R
 eading\, Studying and Consulting
LOCATION:De Montfort University\, Leicester UK
URL:http://textualscholarship.eu/conference/
CLASS:PUBLIC
END:VEVENT
END:VCALENDAR
