BEGIN:VCALENDAR
PRODID:-//AT Content Types//AT Event//EN
VERSION:1.0
BEGIN:VEVENT
DTSTART:20150513T220000Z
DTEND:20150516T220000Z
DCREATED:20150215T150609Z
UID:ATEvent-fdfc6353e1e94b1ab6438dc87f653023
SEQUENCE:0
LAST-MODIFIED:20150215T150704Z
SUMMARY:The 50th International Congress on Medieval Studies
DESCRIPTION:The Congress is an annual gathering of more than 3\,000 sc
 holars interested in Medieval Studies. It features more than 550 sessi
 ons of papers\, panel discussions\, roundtables\, workshops\, and perf
 ormances. There are also some 90 business meetings and receptions spon
 sored by learned societies\, associations\, and institutions. The exhi
 bits hall boasts nearly 70 exhibitors\, including publishers\, used bo
 ok dealers\, and purveyors of medieval sundries. The Congress lasts th
 ree and a half days\, extending from Thursday morning until Sunday at 
 noon.
LOCATION:Kalamazoo\, Michigan (USA)
PRIORITY:3
TRANSP:0
END:VEVENT
END:VCALENDAR
