BEGIN:VCALENDAR
PRODID:-//AT Content Types//AT Event//EN
VERSION:2.0
METHOD:PUBLISH
BEGIN:VEVENT
DTSTAMP:20260421T192026Z
CREATED:20080730T085238Z
UID:ATEvent-1b5e72f98f677c511f0f167ffc85646e
LAST-MODIFIED:20120117T073833Z
SUMMARY:Seminar on editing historical sources
DTSTART:20080908T120000Z
DTEND:20080908T143000Z
LOCATION:Royal Library\, The Hague
CLASS:PUBLIC
END:VEVENT
END:VCALENDAR
