BEGIN:VCALENDAR
PRODID:-//AT Content Types//AT Event//EN
VERSION:1.0
BEGIN:VEVENT
DTSTART:20170202T092000Z
DTEND:20170203T092000Z
DCREATED:20160707T082122Z
UID:ATEvent-3c6950658599436e8e7dd8e3e1af8f74
SEQUENCE:0
LAST-MODIFIED:20161227T102529Z
SUMMARY:Parchment\, Paper and Pixels Medieval Writing and Modern Technology
DESCRIPTION:International Conference\, organised by the Belgian-dutch 
 working group ‘Writing and Writing Practices in the Medieval Low Cou
 ntries’\, (Schrift en Schriftdragers in de Nederlanden in the Middel
 eeuwen – SSNM)\,in collaboration with the Huygens Institute for the 
 History of the Netherlands\, the Regional Historic Centre Limburg and 
 the Henri Pirenne Institute for Medieval Studies (Ghent University)\nR
 EGISTRATION is open at\: \nhttps\://www.ticketkantoor.nl/shop/parchmen
 tandpixels
LOCATION:Maastricht\, The Netherlands
PRIORITY:3
TRANSP:0
END:VEVENT
END:VCALENDAR
