BEGIN:VCALENDAR
PRODID:-//AT Content Types//AT Event//EN
VERSION:2.0
METHOD:PUBLISH
BEGIN:VEVENT
DTSTAMP:20260421T192500Z
CREATED:20150215T145935Z
UID:ATEvent-11f4945dce3a40b2be4e60dd8dad2c10
LAST-MODIFIED:20150215T150310Z
SUMMARY:International Medieval Congress
DTSTART:20150705T220000Z
DTEND:20150708T220000Z
DESCRIPTION:The IMC seeks to provide an interdisciplinary forum for th
 e discussion of all aspects of Medieval Studies. Paper and session pro
 posals on any topic related to the European Middle Ages are welcome. H
 owever\, every year\, the IMC chooses a special thematic strand which 
 - for 2015 - is 'Reform and Renewal'. The theme has been chosen for th
 e crucial importance of both phenomena in social and intellectual disc
 ourse\, both medieval and modern\, as well as their impact on many asp
 ects of the human experience.
LOCATION:Leeds
URL:http://www.leeds.ac.uk/arts/info/125137/international_medieval_congress
CLASS:PUBLIC
END:VEVENT
END:VCALENDAR
