BEGIN:VCALENDAR
PRODID:-//AT Content Types//AT Event//EN
VERSION:2.0
METHOD:PUBLISH
BEGIN:VEVENT
DTSTAMP:20260421T192026Z
CREATED:20130910T092648Z
UID:ATEvent-9318fcf447aa44048054de7e48d1899d
LAST-MODIFIED:20130910T093005Z
SUMMARY:International Interdisciplinary Conference of the Society for Textual Scholarship
DTSTART:20140319T230000Z
DTEND:20140321T230000Z
DESCRIPTION:The Society for Textual Scholarship’s International Inte
 rdisciplinary Conference will take place at the University of Washingt
 on\, Seattle March 20-22\, 2014. Deadline for Proposals\: November 1\,
  2013.
LOCATION:Seatle\, Washington (US)
CLASS:PUBLIC
END:VEVENT
END:VCALENDAR
