BEGIN:VCALENDAR
PRODID:-//AT Content Types//AT Event//EN
VERSION:1.0
BEGIN:VEVENT
DTSTART:20111006T070000Z
DTEND:20111007T150000Z
DCREATED:20110930T124245Z
UID:ATEvent-f732528177eb5814fab9f1cab507ca26
SEQUENCE:0
LAST-MODIFIED:20120117T073833Z
SUMMARY:History Dynastic Identity in Early Modern Europe
DESCRIPTION:1st Arenberg Conference for History\: Dynastic Identity in
  Early Modern Europe\nFrom October 6 through October 7 VU University A
 msterdam.
LOCATION:Amsterdam
PRIORITY:3
TRANSP:0
END:VEVENT
END:VCALENDAR
