BEGIN:VCALENDAR
PRODID:-//AT Content Types//AT Event//EN
VERSION:2.0
METHOD:PUBLISH
BEGIN:VEVENT
DTSTAMP:20260421T191939Z
CREATED:20120309T130146Z
UID:ATEvent-c2a72aef-e50f-47a1-b174-59c67bfbf886
LAST-MODIFIED:20120323T134840Z
SUMMARY:The 9th Conference of the European Society for Textual Scholarship 2012
DTSTART:20121121T230000Z
DTEND:20121123T230000Z
DESCRIPTION:Call for papers for the 9th Conference of the European Soc
 iety for Textual Scholarship 2012\:\nEditing Fundamentals\: Historical
  and Literary Paradigms in Source Editing\n\nDeadline for paper propos
 al submissions\: May 15\, 2012
LOCATION:Amsterdam
CLASS:PUBLIC
END:VEVENT
END:VCALENDAR
