BEGIN:VCALENDAR
PRODID:-//AT Content Types//AT Event//EN
VERSION:2.0
METHOD:PUBLISH
BEGIN:VEVENT
DTSTAMP:20260421T192027Z
CREATED:20150108T093218Z
UID:ATEvent-5b6356dd2bf3451d9c6be988418796c0
LAST-MODIFIED:20150108T095139Z
SUMMARY:Digital Humanities 2015
DTSTART:20150628T220000Z
DTEND:20150702T220000Z
DESCRIPTION:Digital Humanities 2015\: Global Digital Humanities
LOCATION:Sydney\, Australia
URL:http://dh2015.org/cfp/
CLASS:PUBLIC
END:VEVENT
END:VCALENDAR
