BEGIN:VCALENDAR
PRODID:-//AT Content Types//AT Event//EN
VERSION:1.0
BEGIN:VEVENT
DTSTART:20160107T123000Z
DTEND:20160109T113000Z
DCREATED:20151130T141122Z
UID:ATEvent-6aefb7a0479f4bdaad2cca2b99f87931
SEQUENCE:0
LAST-MODIFIED:20151130T141538Z
SUMMARY:Digital Editing Now
LOCATION:Cambridge
PRIORITY:3
TRANSP:0
END:VEVENT
END:VCALENDAR
