BEGIN:VCALENDAR
PRODID:-//AT Content Types//AT Event//EN
VERSION:2.0
METHOD:PUBLISH
BEGIN:VEVENT
DTSTAMP:20260421T192036Z
CREATED:20110930T123056Z
UID:ATEvent-890088196f266f1a87b8feaf03056f6b
LAST-MODIFIED:20120117T073833Z
SUMMARY:Association of Documentary editing
DTSTART:20111020T090000Z
DTEND:20111022T110000Z
DESCRIPTION:Association for Documentary Editing\n2011 Annual Meeting o
 f the Association of Documentary Editing\nSalt Lake City\, Utah\nSalt 
 Lake City Marriott City Center\nOctober 20-22\, 2011
LOCATION:Salt Lake City\, Utah
URL:http://documentaryediting.org/meeting/index.html
CLASS:PUBLIC
END:VEVENT
END:VCALENDAR
