BEGIN:VCALENDAR
PRODID:-//AT Content Types//AT Event//EN
VERSION:2.0
METHOD:PUBLISH
BEGIN:VEVENT
DTSTAMP:20260421T192958Z
CREATED:20130409T100931Z
UID:ATEvent-b034bc34accf4e9ba61e61b88efd25b5
LAST-MODIFIED:20130409T102710Z
SUMMARY:Annual conference of the Association of Documentary Editing
DTSTART:20130711T110000Z
DTEND:20130713T110000Z
DESCRIPTION:2013 Annual conference of the Association of Documentary E
 diting
LOCATION:Ann Arbor\, Michigan\, USA
URL:http://documentaryediting.org/meeting/index.html
CLASS:PUBLIC
END:VEVENT
END:VCALENDAR
