BEGIN:VCALENDAR
PRODID:-//AT Content Types//AT Event//EN
VERSION:2.0
METHOD:PUBLISH
BEGIN:VEVENT
DTSTAMP:20260421T193207Z
CREATED:20180417T081430Z
UID:ATEvent-c13d2a47adfa4fafaffc5cec6806af61
LAST-MODIFIED:20180417T081515Z
SUMMARY:Annual Meeting of the Society for Textual Scholarship
DTSTART:20181115T090000Z
DTEND:20181117T160000Z
DESCRIPTION:"Author as Editor as Author"\, Annual Meeting of the Socie
 ty for Textual Scholarship
LOCATION:Prague\, Czech Republic
CLASS:PUBLIC
END:VEVENT
END:VCALENDAR
