BEGIN:VCALENDAR
PRODID:-//AT Content Types//AT Event//EN
VERSION:1.0
BEGIN:VEVENT
DTSTART:20150616T220000Z
DTEND:20150619T220000Z
DCREATED:20140829T144337Z
UID:ATEvent-4af17a6aa61d477ebd6a208df4d1da0c
SEQUENCE:0
LAST-MODIFIED:20141021T143115Z
SUMMARY:Annual meeting of the ADE and STS
DESCRIPTION:The joint annual meeting of the Association of Documentary
  Editing and the Society of Textual Scholarship
LOCATION:Lincoln\, Nebraska\, USA
PRIORITY:3
TRANSP:0
END:VEVENT
END:VCALENDAR
