BEGIN:VCALENDAR
PRODID:-//AT Content Types//AT Event//EN
VERSION:2.0
METHOD:PUBLISH
BEGIN:VEVENT
DTSTAMP:20260421T225828Z
CREATED:20090217T235543Z
UID:ATEvent-eb0f74c53f5967457c96a43f76149f17
LAST-MODIFIED:20120117T073833Z
SUMMARY:Annual meeting and 175th Anniversary CRH/KCG
DTSTART:20090429T070000Z
DTEND:20090430T160000Z
DESCRIPTION:Annual meeting of Porta Historica and conference celebrati
 ng the 175th Anniversary of the Commission royale d’Histoire de Belg
 ique/Koninklijke Commissie voor Geschiedenis van België\, Brussels 29
 -30 April 2009.
LOCATION:Algemeen Rijksarchief\, Ruisbroekstraat\, 2-6\, Brussels
CATEGORIES:annual meeting,conference
CLASS:PUBLIC
END:VEVENT
END:VCALENDAR
