BEGIN:VCALENDAR
PRODID:-//AT Content Types//AT Event//EN
VERSION:2.0
METHOD:PUBLISH
BEGIN:VEVENT
DTSTAMP:20260421T192058Z
CREATED:20080612T080314Z
UID:ATEvent-bbb1f4202e95c0c4f57a557c2be13142
LAST-MODIFIED:20120117T073833Z
SUMMARY:Annual Meeting 2008
DTSTART:20081202T090000Z
DTEND:20081204T160000Z
DESCRIPTION:The annual meeting of Porta Historica will be held in Lond
 on 2-4 December 2008. The meeting will be hosted by the Institute of H
 istorical Research
LOCATION:London\, Institute for Historical Research
CLASS:PUBLIC
END:VEVENT
END:VCALENDAR
