BEGIN:VCALENDAR
PRODID:-//AT Content Types//AT Event//EN
VERSION:1.0
BEGIN:VEVENT
DTSTART:20160413T220000Z
DTEND:20160415T220000Z
DCREATED:20150924T083856Z
UID:ATEvent-34db33a89f71438b8d51ad96a69cf6f4
SEQUENCE:0
LAST-MODIFIED:20150924T083910Z
SUMMARY:Annual Conference of the The Society for Textual Scholarship
DESCRIPTION:International Interdisciplinary Conference on the theme \:
  “Textual Ecologies”
LOCATION:Carleton University\, Ottawa\, Canada
PRIORITY:3
TRANSP:0
END:VEVENT
END:VCALENDAR
