BEGIN:VCALENDAR
PRODID:-//AT Content Types//AT Event//EN
VERSION:1.0
BEGIN:VEVENT
DTSTART:20140723T220000Z
DTEND:20140726T092500Z
DCREATED:20130910T092315Z
UID:ATEvent-09dc7bb1c26848fdb0fa6d0017ecea22
SEQUENCE:0
LAST-MODIFIED:20130910T092434Z
SUMMARY:36th Annual Meeting of the Association for Documentary Editing
LOCATION:Louisville\, Kentuky (US)
PRIORITY:3
TRANSP:0
END:VEVENT
END:VCALENDAR
