BEGIN:VCALENDAR
PRODID:-//AT Content Types//AT Event//EN
VERSION:1.0
BEGIN:VEVENT
DTSTART:20160803T220000Z
DTEND:20160805T220000Z
DCREATED:20150924T084535Z
UID:ATEvent-6c1c01c2e7da4041affcc14af66b9d9a
SEQUENCE:0
LAST-MODIFIED:20150924T084601Z
SUMMARY:2016 Annual Meeting of the Association for Documentary Editing
LOCATION:Astor Crowne Plaza\, New Orleans\, Louisiana US
PRIORITY:3
TRANSP:0
END:VEVENT
END:VCALENDAR
