BEGIN:VCALENDAR
PRODID:-//AT Content Types//AT Event//EN
VERSION:2.0
METHOD:PUBLISH
BEGIN:VEVENT
DTSTAMP:20260421T193023Z
CREATED:20150217T151509Z
UID:ATEvent-0b0706b4e1f84d12897310d902dbc66d
LAST-MODIFIED:20150217T151600Z
SUMMARY:2015 International Conference of Editors of Diplomatic Documents
DTSTART:20150414T120000Z
DTEND:20150417T180000Z
DESCRIPTION:Conference objective\: Strengthen our work in publishing o
 fficial diplomatic documentation—as individual programs\, and as a c
 ommunity—by building collaboration\, and by sharing ideas and manage
 ment approaches.
LOCATION:Washington\, DC (USA)
URL:http://www.diplomatic-documents.org/washington-2015
CLASS:PUBLIC
END:VEVENT
END:VCALENDAR
