BEGIN:VCALENDAR
PRODID:-//AT Content Types//AT Event//EN
VERSION:2.0
METHOD:PUBLISH
BEGIN:VEVENT
DTSTAMP:20260421T193433Z
CREATED:20140704T151604Z
UID:ATEvent-c1662431a1b240eca81f05b25f66a61c
LAST-MODIFIED:20140704T151923Z
SUMMARY:11the Annual Conference of the European society for Textual Scholarship
DTSTART:20141030T100000Z
DTEND:20141101T120000Z
DESCRIPTION:The theme of the conference is Textual Trails\: Transmissi
 ons of Oral and Written Texts
LOCATION:Helsinki
URL:http://www.textualscholarship.eu/conference-2014.html
CLASS:PUBLIC
END:VEVENT
END:VCALENDAR
