BEGIN:VCALENDAR
PRODID:-//AT Content Types//AT Event//EN
VERSION:1.0
BEGIN:VEVENT
DTSTART:20131119T230000Z
DTEND:20131121T230000Z
DCREATED:20130604T134128Z
UID:ATEvent-359e9daa42204541b6cfb95f6bf4f2ff
SEQUENCE:0
LAST-MODIFIED:20130604T134442Z
SUMMARY:10th Conference of the European Society for Textual Scholarship (ESTS 2013)
DESCRIPTION:VARIANCE IN TEXTUAL SCHOLARSHIP AND GENETIC CRITICISM\;\nL
 A VARIANCE EN PHILOLOGIE ET EN CRITIQUE GÉNÉTIQUE
LOCATION:École normale supérieure\, Paris
PRIORITY:3
TRANSP:0
END:VEVENT
END:VCALENDAR
